BEGIN:VCALENDAR
VERSION:2.0
PRODID:-//Apple Inc.//Mac OS X 10.13.6//EN
BEGIN:VEVENT
DTSTAMP:20241231
DTSTART:20241231
SUMMARY:Ende: Horizon Europe: Europäischer Innovationsrat (EIC)
END:VEVENT
END:VCALENDAR