BEGIN:VCALENDAR
VERSION:2.0
PRODID:-//Apple Inc.//Mac OS X 10.13.6//EN
BEGIN:VEVENT
DTSTAMP:20240101
DTSTART:20240101
SUMMARY:Start: Horizon Europe: Europäischer Innovationsrat (EIC)
END:VEVENT
END:VCALENDAR