BEGIN:VCALENDAR
VERSION:2.0
PRODID:-//Apple Inc.//Mac OS X 10.13.6//EN
BEGIN:VEVENT
DTSTAMP:20230919
DTSTART:20230919
SUMMARY:Start: Horizon Europe: Cluster 4 "Digitalisierung, Industrie und Weltraum"
END:VEVENT
END:VCALENDAR