BEGIN:VCALENDAR
VERSION:2.0
PRODID:-//Apple Inc.//Mac OS X 10.13.6//EN
BEGIN:VEVENT
DTSTAMP:20240926
DTSTART:20240926
SUMMARY:Ende: Horizon Europe: Ausweitung der Beteiligung und Verbreitung von Exzellenz (WIDERA-Widening)
END:VEVENT
END:VCALENDAR