BEGIN:VCALENDAR
VERSION:2.0
PRODID:-//Apple Inc.//Mac OS X 10.13.6//EN
BEGIN:VEVENT
DTSTAMP:20230110
DTSTART:20230110
SUMMARY:Start: Horizon Europe: Ausweitung der Beteiligung und Verbreitung von Exzellenz (WIDERA-Widening)
END:VEVENT
END:VCALENDAR