BEGIN:VCALENDAR
VERSION:2.0
PRODID:-//Apple Inc.//Mac OS X 10.13.6//EN
BEGIN:VEVENT
DTSTAMP:20241120
DTSTART:20241120
SUMMARY:Ende: Horizon Europe: Cluster 3 "Zivile Sicherheit für die Gesellschaft“
END:VEVENT
END:VCALENDAR