BEGIN:VCALENDAR
VERSION:2.0
PRODID:-//Apple Inc.//Mac OS X 10.13.6//EN
BEGIN:VEVENT
DTSTAMP:20240620
DTSTART:20240620
SUMMARY:Start: Horizon Europe: Cluster 3 "Zivile Sicherheit für die Gesellschaft“
END:VEVENT
END:VCALENDAR