BEGIN:VCALENDAR
VERSION:2.0
PRODID:-//Apple Inc.//Mac OS X 10.13.6//EN
BEGIN:VEVENT
DTSTAMP:20230419
DTSTART:20230419
SUMMARY:Start: Horizon Europe: Cluster 6 „Lebensmittel, Bioökonomie, natürliche Ressourcen, Landwirtschaft und Umwelt"
END:VEVENT
END:VCALENDAR