BEGIN:VCALENDAR
VERSION:2.0
PRODID:-//Apple Inc.//Mac OS X 10.13.6//EN
BEGIN:VEVENT
DTSTAMP:20240207
DTSTART:20240207
SUMMARY:Ende: Horizon Europe: Cluster 2 "Kultur, Kreativität und inklusive Gesellschaft"
END:VEVENT
END:VCALENDAR