BEGIN:VCALENDAR
VERSION:2.0
PRODID:-//Apple Inc.//Mac OS X 10.13.6//EN
BEGIN:VEVENT
DTSTAMP:20240312
DTSTART:20240312
SUMMARY:Ende: Horizon Europe: Reformierung und Stärkung des europäischen F&I-Systems (WIDERA-ERA)
END:VEVENT
END:VCALENDAR