BEGIN:VCALENDAR
VERSION:2.0
PRODID:-//Apple Inc.//Mac OS X 10.13.6//EN
BEGIN:VEVENT
DTSTAMP:20230504
DTSTART:20230504
SUMMARY:Start: Horizon Europe: Cluster 5 "Klima, Energie und Mobilität“
END:VEVENT
END:VCALENDAR