BEGIN:VCALENDAR
VERSION:2.0
PRODID:-//Apple Inc.//Mac OS X 10.13.6//EN
BEGIN:VEVENT
DTSTAMP:20240918
DTSTART:20240918
SUMMARY:Ende: Circular Bio-based Europe – Ausschreibung 2024
END:VEVENT
END:VCALENDAR