BEGIN:VCALENDAR
VERSION:2.0
PRODID:-//Apple Inc.//Mac OS X 10.13.6//EN
BEGIN:VEVENT
DTSTAMP:20230308
DTSTART:20230308
SUMMARY:Start: Dissertantinnen für Zukunftsthemen der Wirtschaft 2023
END:VEVENT
END:VCALENDAR