BEGIN:VCALENDAR
VERSION:2.0
PRODID:-//Apple Inc.//Mac OS X 10.13.6//EN
BEGIN:VEVENT
DTSTAMP:20240331
DTSTART:20240331
SUMMARY:Ende: Skills Schecks 2023 (Ausschreibung geschlossen)
END:VEVENT
END:VCALENDAR