BEGIN:VCALENDAR
VERSION:2.0
PRODID:-//Apple Inc.//Mac OS X 10.13.6//EN
BEGIN:VEVENT
DTSTAMP:20230306
DTSTART:20230306
SUMMARY:Start: Skills Schecks 2023 (Ausschreibung geschlossen)
END:VEVENT
END:VCALENDAR