BEGIN:VCALENDAR
VERSION:2.0
PRODID:-//Apple Inc.//Mac OS X 10.13.6//EN
BEGIN:VEVENT
DTSTAMP:20231005
DTSTART:20231005
SUMMARY:Start: Technologien und Innovationen für die klimaneutrale Stadt 2023
END:VEVENT
END:VCALENDAR