BEGIN:VCALENDAR
VERSION:2.0
PRODID:-//Apple Inc.//Mac OS X 10.13.6//EN
BEGIN:VEVENT
DTSTAMP:20231108
DTSTART:20231108
SUMMARY:Start: LADIN - Ladeinfrastruktur 1. Ausschreibung
END:VEVENT
END:VCALENDAR