BEGIN:VCALENDAR
VERSION:2.0
PRODID:-//Apple Inc.//Mac OS X 10.13.6//EN
BEGIN:VEVENT
DTSTAMP:20231025
DTSTART:20231025
SUMMARY:Start: Mobilität & Luftfahrt 2023: Kreislaufwirtschaft - Anwendung von Prinzipien der Kreislaufwirtschaft und des Ökodesigns in den Branchen der Mobilität
END:VEVENT
END:VCALENDAR