BEGIN:VCALENDAR
VERSION:2.0
PRODID:-//Apple Inc.//Mac OS X 10.13.6//EN
BEGIN:VEVENT
DTSTAMP:20240411
DTSTART:20240411
SUMMARY:Ende: Leitprojekt Daten-Service-Ökosysteme für den Digitalen Produktpass
END:VEVENT
END:VCALENDAR