BEGIN:VCALENDAR
VERSION:2.0
PRODID:-//Apple Inc.//Mac OS X 10.13.6//EN
BEGIN:VEVENT
DTSTAMP:20231114
DTSTART:20231114
SUMMARY:Start: Leitprojekt Daten-Service-Ökosysteme für den Digitalen Produktpass
END:VEVENT
END:VCALENDAR