BEGIN:VCALENDAR
VERSION:2.0
PRODID:-//Apple Inc.//Mac OS X 10.13.6//EN
BEGIN:VEVENT
DTSTAMP:20240318
DTSTART:20240318
SUMMARY:Ende: Mit Regulierung und Souveränität zur Innovation - Digitale Technologien 2023
END:VEVENT
END:VCALENDAR