BEGIN:VCALENDAR
VERSION:2.0
PRODID:-//Apple Inc.//Mac OS X 10.13.6//EN
BEGIN:VEVENT
DTSTAMP:20240214
DTSTART:20240214
SUMMARY:Ende: Mobilität (2023) Regionen und Digitalisierung
END:VEVENT
END:VCALENDAR