BEGIN:VCALENDAR
VERSION:2.0
PRODID:-//Apple Inc.//Mac OS X 10.13.6//EN
BEGIN:VEVENT
DTSTAMP:20231025
DTSTART:20231025
SUMMARY:Start: Mobilität (2023) Regionen und Digitalisierung
END:VEVENT
END:VCALENDAR