BEGIN:VCALENDAR
VERSION:2.0
PRODID:-//Apple Inc.//Mac OS X 10.13.6//EN
BEGIN:VEVENT
DTSTAMP:20231122
DTSTART:20231122
SUMMARY:Start: Ausschreibung Digitale Technologien für Mensch und Gesellschaft 2023: Klimawandel und Gesundheit - Awareness und Anpassung
END:VEVENT
END:VCALENDAR