BEGIN:VCALENDAR
VERSION:2.0
PRODID:-//Apple Inc.//Mac OS X 10.13.6//EN
BEGIN:VEVENT
DTSTAMP:20240415
DTSTART:20240415
SUMMARY:Ende: Digitale Transformation in der Mobilität 2023
END:VEVENT
END:VCALENDAR