BEGIN:VCALENDAR
VERSION:2.0
PRODID:-//Apple Inc.//Mac OS X 10.13.6//EN
BEGIN:VEVENT
DTSTAMP:20231127
DTSTART:20231127
SUMMARY:Start: Digitale Transformation in der Mobilität 2023
END:VEVENT
END:VCALENDAR