BEGIN:VCALENDAR
VERSION:2.0
PRODID:-//Apple Inc.//Mac OS X 10.13.6//EN
BEGIN:VEVENT
DTSTAMP:20231129
DTSTART:20231129
SUMMARY:Start: Breitband Austria 2030: OpenNet - 2. Ausschreibung
END:VEVENT
END:VCALENDAR