BEGIN:VCALENDAR
VERSION:2.0
PRODID:-//Apple Inc.//Mac OS X 10.13.6//EN
BEGIN:VEVENT
DTSTAMP:20231214
DTSTART:20231214
SUMMARY:Start: Interdisziplinäre Kompetenz aufbauen - Digitale Technologien 2023
END:VEVENT
END:VCALENDAR