BEGIN:VCALENDAR
VERSION:2.0
PRODID:-//Apple Inc.//Mac OS X 10.13.6//EN
BEGIN:VEVENT
DTSTAMP:20240117
DTSTART:20240117
SUMMARY:Start: Forschungskooperation Internationale Energieagentur (IEA) - Interessensbekundung für Task-/Annexbeteiligung
END:VEVENT
END:VCALENDAR