BEGIN:VCALENDAR
VERSION:2.0
PRODID:-//Apple Inc.//Mac OS X 10.13.6//EN
BEGIN:VEVENT
DTSTAMP:20240131
DTSTART:20240131
SUMMARY:Start: ENIN – Emissionsfreie Nutzfahrzeuge und Infrastruktur 6. Ausschreibung
END:VEVENT
END:VCALENDAR