BEGIN:VCALENDAR
VERSION:2.0
PRODID:-//Apple Inc.//Mac OS X 10.13.6//EN
BEGIN:VEVENT
DTSTAMP:20240313
DTSTART:20240313
SUMMARY:Ende: ENIN – Emissionsfreie Nutzfahrzeuge und Infrastruktur 8. Ausschreibung
END:VEVENT
END:VCALENDAR